BEGIN:VCALENDAR
VERSION:2.0
PRODID:-//CNTA - ECPv6.15.18//NONSGML v1.0//EN
CALSCALE:GREGORIAN
METHOD:PUBLISH
X-WR-CALNAME:CNTA
X-ORIGINAL-URL:https://cntaware.org
X-WR-CALDESC:Events for CNTA
REFRESH-INTERVAL;VALUE=DURATION:PT1H
X-Robots-Tag:noindex
X-PUBLISHED-TTL:PT1H
BEGIN:VTIMEZONE
TZID:UTC
BEGIN:STANDARD
TZOFFSETFROM:+0000
TZOFFSETTO:+0000
TZNAME:UTC
DTSTART:20240101T000000
END:STANDARD
END:VTIMEZONE
BEGIN:VEVENT
DTSTART;TZID=UTC:20251011T183000
DTEND;TZID=UTC:20251011T210000
DTSTAMP:20260420T232437
CREATED:20250609T143418Z
LAST-MODIFIED:20251008T112609Z
UID:5854-1760207400-1760216400@cntaware.org
SUMMARY:7th Annual Oyster Roast
DESCRIPTION:Admiral Charles L. Munns will provide an overview of why SRS is strategically important for national security and why what we do on site matters for the safety of our country and the world. Questions will be taken. Registration is requested but is free! Register for this virtual event at: https://us02web.zoom.us/meeting/register/tZAvdOuhqDgtE9ZUDJKKWyEhvVbApVsOHxjj    Or email cnta@bellsouth.net to be registered. 								\n				\n				\n				\n																														\n				\n				\n						\n					\n			\n						\n				\n									Consider donating to our “Help CNTA & Help the Community” Gift Card Program! Gift Cards will be purchased from local businesses and all donors will be entered to win 2 tickets to the Fall Young Professionals Oyster Roast! This event usually sells out!!
URL:https://cntaware.org/event/2025-oyster-roast/
LOCATION:Palmetto Golf Club\, 275 Berrie Rd SW\, Aiken\, SC\, 29803\, United States
END:VEVENT
BEGIN:VEVENT
DTSTART;TZID=UTC:20251106T073000
DTEND;TZID=UTC:20251106T090000
DTSTAMP:20260420T232437
CREATED:20251008T112823Z
LAST-MODIFIED:20251008T112954Z
UID:6070-1762414200-1762419600@cntaware.org
SUMMARY:Up & Atom- SRNL Director
DESCRIPTION:Admiral Charles L. Munns will provide an overview of why SRS is strategically important for national security and why what we do on site matters for the safety of our country and the world. Questions will be taken. Registration is requested but is free! Register for this virtual event at: https://us02web.zoom.us/meeting/register/tZAvdOuhqDgtE9ZUDJKKWyEhvVbApVsOHxjj    Or email cnta@bellsouth.net to be registered. 								\n				\n				\n				\n																														\n				\n				\n						\n					\n			\n						\n				\n									Consider donating to our “Help CNTA & Help the Community” Gift Card Program! Gift Cards will be purchased from local businesses and all donors will be entered to win 2 tickets to the Fall Young Professionals Oyster Roast! This event usually sells out!!
URL:https://cntaware.org/event/up-atom-srnl-director/
LOCATION:Newberry Hall\, 117 Newberry Street SW\, Aiken\, SC\, 29801\, United States
END:VEVENT
BEGIN:VEVENT
DTSTART;TZID=UTC:20251121T183000
DTEND;TZID=UTC:20251121T203000
DTSTAMP:20260420T232437
CREATED:20250908T104306Z
LAST-MODIFIED:20250919T153946Z
UID:6024-1763749800-1763757000@cntaware.org
SUMMARY:34th Annual Teller Lecture
DESCRIPTION:Admiral Charles L. Munns will provide an overview of why SRS is strategically important for national security and why what we do on site matters for the safety of our country and the world. Questions will be taken. Registration is requested but is free! Register for this virtual event at: https://us02web.zoom.us/meeting/register/tZAvdOuhqDgtE9ZUDJKKWyEhvVbApVsOHxjj    Or email cnta@bellsouth.net to be registered. 								\n				\n				\n				\n																														\n				\n				\n						\n					\n			\n						\n				\n									Consider donating to our “Help CNTA & Help the Community” Gift Card Program! Gift Cards will be purchased from local businesses and all donors will be entered to win 2 tickets to the Fall Young Professionals Oyster Roast! This event usually sells out!!
URL:https://cntaware.org/event/34th-annual-teller-lecture/
LOCATION:Amentum Center for Performing Arts\, 126 Newberry St SW\, Aiken\, SC\, 29801\, United States
END:VEVENT
BEGIN:VEVENT
DTSTART;TZID=UTC:20260128T073000
DTEND;TZID=UTC:20260128T090000
DTSTAMP:20260420T232437
CREATED:20251008T115505Z
LAST-MODIFIED:20260108T131811Z
UID:6091-1769585400-1769590800@cntaware.org
SUMMARY:Membership Appreciation Up & Atom
DESCRIPTION:Admiral Charles L. Munns will provide an overview of why SRS is strategically important for national security and why what we do on site matters for the safety of our country and the world. Questions will be taken. Registration is requested but is free! Register for this virtual event at: https://us02web.zoom.us/meeting/register/tZAvdOuhqDgtE9ZUDJKKWyEhvVbApVsOHxjj    Or email cnta@bellsouth.net to be registered. 								\n				\n				\n				\n																														\n				\n				\n						\n					\n			\n						\n				\n									Consider donating to our “Help CNTA & Help the Community” Gift Card Program! Gift Cards will be purchased from local businesses and all donors will be entered to win 2 tickets to the Fall Young Professionals Oyster Roast! This event usually sells out!!
URL:https://cntaware.org/event/membership-appreciation-up-atom/
LOCATION:Newberry Hall\, 117 Newberry Street SW\, Aiken\, SC\, 29801\, United States
END:VEVENT
BEGIN:VEVENT
DTSTART;TZID=UTC:20260218T073000
DTEND;TZID=UTC:20260218T090000
DTSTAMP:20260420T232437
CREATED:20260108T131928Z
LAST-MODIFIED:20260129T104453Z
UID:6307-1771399800-1771405200@cntaware.org
SUMMARY:Up & Atom- Computational Modeling to assist SRS Missions
DESCRIPTION:Admiral Charles L. Munns will provide an overview of why SRS is strategically important for national security and why what we do on site matters for the safety of our country and the world. Questions will be taken. Registration is requested but is free! Register for this virtual event at: https://us02web.zoom.us/meeting/register/tZAvdOuhqDgtE9ZUDJKKWyEhvVbApVsOHxjj    Or email cnta@bellsouth.net to be registered. 								\n				\n				\n				\n																														\n				\n				\n						\n					\n			\n						\n				\n									Consider donating to our “Help CNTA & Help the Community” Gift Card Program! Gift Cards will be purchased from local businesses and all donors will be entered to win 2 tickets to the Fall Young Professionals Oyster Roast! This event usually sells out!!
URL:https://cntaware.org/event/up-atom-computational-modeling-to-assist-srs-missions/
LOCATION:Newberry Hall\, 117 Newberry Street SW\, Aiken\, SC\, 29801\, United States
END:VEVENT
BEGIN:VEVENT
DTSTART;TZID=UTC:20260319T073000
DTEND;TZID=UTC:20260319T090000
DTSTAMP:20260420T232437
CREATED:20260108T132346Z
LAST-MODIFIED:20260224T001355Z
UID:6312-1773905400-1773910800@cntaware.org
SUMMARY:Up & Atom- Southern Nuclear
DESCRIPTION:Admiral Charles L. Munns will provide an overview of why SRS is strategically important for national security and why what we do on site matters for the safety of our country and the world. Questions will be taken. Registration is requested but is free! Register for this virtual event at: https://us02web.zoom.us/meeting/register/tZAvdOuhqDgtE9ZUDJKKWyEhvVbApVsOHxjj    Or email cnta@bellsouth.net to be registered. 								\n				\n				\n				\n																														\n				\n				\n						\n					\n			\n						\n				\n									Consider donating to our “Help CNTA & Help the Community” Gift Card Program! Gift Cards will be purchased from local businesses and all donors will be entered to win 2 tickets to the Fall Young Professionals Oyster Roast! This event usually sells out!!
URL:https://cntaware.org/event/up-atom-southern-nuclear/
LOCATION:Houndslake Country Club\, 901 Houndslake Dr\, Aiken\, SC\, 29803\, United States
END:VEVENT
BEGIN:VEVENT
DTSTART;TZID=UTC:20260429T073000
DTEND;TZID=UTC:20260429T090000
DTSTAMP:20260420T232437
CREATED:20260401T164812Z
LAST-MODIFIED:20260401T182411Z
UID:6368-1777447800-1777453200@cntaware.org
SUMMARY:Up & Atom- Apprentice
DESCRIPTION:Admiral Charles L. Munns will provide an overview of why SRS is strategically important for national security and why what we do on site matters for the safety of our country and the world. Questions will be taken. Registration is requested but is free! Register for this virtual event at: https://us02web.zoom.us/meeting/register/tZAvdOuhqDgtE9ZUDJKKWyEhvVbApVsOHxjj    Or email cnta@bellsouth.net to be registered. 								\n				\n				\n				\n																														\n				\n				\n						\n					\n			\n						\n				\n									Consider donating to our “Help CNTA & Help the Community” Gift Card Program! Gift Cards will be purchased from local businesses and all donors will be entered to win 2 tickets to the Fall Young Professionals Oyster Roast! This event usually sells out!!
URL:https://cntaware.org/event/up-atom-apprentice/
LOCATION:Newberry Hall\, 117 Newberry Street SW\, Aiken\, SC\, 29801\, United States
END:VEVENT
BEGIN:VEVENT
DTSTART;TZID=UTC:20260508T073000
DTEND;TZID=UTC:20260508T140000
DTSTAMP:20260420T232437
CREATED:20251008T113324Z
LAST-MODIFIED:20260417T122029Z
UID:6074-1778225400-1778248800@cntaware.org
SUMMARY:24th Annual Golf Tournament
DESCRIPTION:Admiral Charles L. Munns will provide an overview of why SRS is strategically important for national security and why what we do on site matters for the safety of our country and the world. Questions will be taken. Registration is requested but is free! Register for this virtual event at: https://us02web.zoom.us/meeting/register/tZAvdOuhqDgtE9ZUDJKKWyEhvVbApVsOHxjj    Or email cnta@bellsouth.net to be registered. 								\n				\n				\n				\n																														\n				\n				\n						\n					\n			\n						\n				\n									Consider donating to our “Help CNTA & Help the Community” Gift Card Program! Gift Cards will be purchased from local businesses and all donors will be entered to win 2 tickets to the Fall Young Professionals Oyster Roast! This event usually sells out!!
URL:https://cntaware.org/event/24th-annual-golf-tournament/
LOCATION:Houndslake Country Club\, 901 Houndslake Dr\, Aiken\, SC\, 29803\, United States
END:VEVENT
BEGIN:VEVENT
DTSTART;TZID=UTC:20260521T153000
DTEND;TZID=UTC:20260521T170000
DTSTAMP:20260420T232437
CREATED:20260401T164755Z
LAST-MODIFIED:20260401T185413Z
UID:6374-1779377400-1779382800@cntaware.org
SUMMARY:SRS Museum Ribbon Cutting
DESCRIPTION:Admiral Charles L. Munns will provide an overview of why SRS is strategically important for national security and why what we do on site matters for the safety of our country and the world. Questions will be taken. Registration is requested but is free! Register for this virtual event at: https://us02web.zoom.us/meeting/register/tZAvdOuhqDgtE9ZUDJKKWyEhvVbApVsOHxjj    Or email cnta@bellsouth.net to be registered. 								\n				\n				\n				\n																														\n				\n				\n						\n					\n			\n						\n				\n									Consider donating to our “Help CNTA & Help the Community” Gift Card Program! Gift Cards will be purchased from local businesses and all donors will be entered to win 2 tickets to the Fall Young Professionals Oyster Roast! This event usually sells out!!
URL:https://cntaware.org/event/srs-museum-ribbon-cutting/
LOCATION:Cafe Scientifique\, 203 Laurens St SW\, Aiken\, SC\, 29801\, United States
END:VEVENT
BEGIN:VEVENT
DTSTART;TZID=UTC:20260604T190000
DTEND;TZID=UTC:20260604T210000
DTSTAMP:20260420T232437
CREATED:20251008T114159Z
LAST-MODIFIED:20251008T115002Z
UID:6080-1780599600-1780606800@cntaware.org
SUMMARY:Night at the GreenJackets
DESCRIPTION:Admiral Charles L. Munns will provide an overview of why SRS is strategically important for national security and why what we do on site matters for the safety of our country and the world. Questions will be taken. Registration is requested but is free! Register for this virtual event at: https://us02web.zoom.us/meeting/register/tZAvdOuhqDgtE9ZUDJKKWyEhvVbApVsOHxjj    Or email cnta@bellsouth.net to be registered. 								\n				\n				\n				\n																														\n				\n				\n						\n					\n			\n						\n				\n									Consider donating to our “Help CNTA & Help the Community” Gift Card Program! Gift Cards will be purchased from local businesses and all donors will be entered to win 2 tickets to the Fall Young Professionals Oyster Roast! This event usually sells out!!
URL:https://cntaware.org/event/night-at-the-greenjackets/
LOCATION:SRP Park\, 187 Railroad Ave\, North Augusta\, SC\, 29841\, United States
END:VEVENT
BEGIN:VEVENT
DTSTART;TZID=UTC:20260723T073000
DTEND;TZID=UTC:20260723T090000
DTSTAMP:20260420T232437
CREATED:20260401T164735Z
LAST-MODIFIED:20260401T182941Z
UID:6372-1784791800-1784797200@cntaware.org
SUMMARY:Up & Atom- SRS Interns
DESCRIPTION:Admiral Charles L. Munns will provide an overview of why SRS is strategically important for national security and why what we do on site matters for the safety of our country and the world. Questions will be taken. Registration is requested but is free! Register for this virtual event at: https://us02web.zoom.us/meeting/register/tZAvdOuhqDgtE9ZUDJKKWyEhvVbApVsOHxjj    Or email cnta@bellsouth.net to be registered. 								\n				\n				\n				\n																														\n				\n				\n						\n					\n			\n						\n				\n									Consider donating to our “Help CNTA & Help the Community” Gift Card Program! Gift Cards will be purchased from local businesses and all donors will be entered to win 2 tickets to the Fall Young Professionals Oyster Roast! This event usually sells out!!
URL:https://cntaware.org/event/up-atom-srs-interns-3/
LOCATION:Newberry Hall\, 117 Newberry Street SW\, Aiken\, SC\, 29801\, United States
END:VEVENT
BEGIN:VEVENT
DTSTART;TZID=UTC:20261017T183000
DTEND;TZID=UTC:20261017T210000
DTSTAMP:20260420T232437
CREATED:20260401T154400Z
LAST-MODIFIED:20260401T183505Z
UID:6370-1792261800-1792270800@cntaware.org
SUMMARY:Oyster Roast
DESCRIPTION:Admiral Charles L. Munns will provide an overview of why SRS is strategically important for national security and why what we do on site matters for the safety of our country and the world. Questions will be taken. Registration is requested but is free! Register for this virtual event at: https://us02web.zoom.us/meeting/register/tZAvdOuhqDgtE9ZUDJKKWyEhvVbApVsOHxjj    Or email cnta@bellsouth.net to be registered. 								\n				\n				\n				\n																														\n				\n				\n						\n					\n			\n						\n				\n									Consider donating to our “Help CNTA & Help the Community” Gift Card Program! Gift Cards will be purchased from local businesses and all donors will be entered to win 2 tickets to the Fall Young Professionals Oyster Roast! This event usually sells out!!
URL:https://cntaware.org/event/oyster-roast-2/
LOCATION:Palmetto Golf Club\, 275 Berrie Rd SW\, Aiken\, SC\, 29803\, United States
END:VEVENT
END:VCALENDAR