BEGIN:VCALENDAR
VERSION:2.0
PRODID:-//CNTA - ECPv6.15.18//NONSGML v1.0//EN
CALSCALE:GREGORIAN
METHOD:PUBLISH
X-WR-CALNAME:CNTA
X-ORIGINAL-URL:https://cntaware.org
X-WR-CALDESC:Events for CNTA
REFRESH-INTERVAL;VALUE=DURATION:PT1H
X-Robots-Tag:noindex
X-PUBLISHED-TTL:PT1H
BEGIN:VTIMEZONE
TZID:UTC
BEGIN:STANDARD
TZOFFSETFROM:+0000
TZOFFSETTO:+0000
TZNAME:UTC
DTSTART:20170101T000000
END:STANDARD
END:VTIMEZONE
BEGIN:VEVENT
DTSTART;TZID=UTC:20190509T073000
DTEND;TZID=UTC:20190509T083000
DTSTAMP:20260420T064914
CREATED:20190325T160854Z
LAST-MODIFIED:20190404T135249Z
UID:1210-1557387000-1557390600@cntaware.org
SUMMARY:Up & Atom - "National Security Implications of U.S. Nuclear Power in the 21st Century"
DESCRIPTION:Our 34th Annual Teller Lecture & Banquet will celebrate the 75 year history of the Savannah River Site.  2025 Teller Lecture Sponsorship Information has information on the specifics of the event and sponsorship options. If you receive a free ticket as part of your CNTA membership (Benefactor\, Advocate\, Champion level) email office@cntaware.org to RSVP. 								\n				\n				\n						\n					\n			\n						\n				\n																														\n				\n					\n		\n				\n			\n						\n				\n									Sponsorship Options								\n				\n				\n				\n					\n  \n  \n  \n    \n      \n        \n        2025 Teller Lecture Sponsorship\n      \n    \n    \n      \n        \n          \n            Platinum Sponsor $2\,500.00 USD\n          \n          \n            Gold Sponsor $1\,500.00 USD\n          \n          \n            Silver Sponsor $1\,000.00 USD\n          \n          \n            Corporate Sponsor $800.00 USD\n          \n          \n            Non-Profit Sponsor $600.00 USD\n          \n        \n      \n    \n  \n  \n  \n\n				\n				\n				\n				\n									Individual Tickets								\n				\n				\n				\n					\n  \n  \n  \n    \n      \n        \n        Ticket Options\n      \n    \n    \n      \n        \n          \n            One Event Ticket $50.00 USD\n          \n          \n            Two Event Tickets $100.00 USD\n          \n          \n            One Event & Reception Ticket $65.00 USD\n          \n          \n            Patron Member 1/2 Price Ticket $25.00 USD\n          \n        \n      \n    \n    \n      \n        \n        Name(s) for RSVP:
URL:https://cntaware.org/event/national-security-implications-of-u-s-nuclear-power-in-the-21st-century-up-atom/
LOCATION:Newberry Hall\, 117 Newberry Street SW\, Aiken\, SC\, 29801\, United States
END:VEVENT
BEGIN:VEVENT
DTSTART;TZID=UTC:20190425T173000
DTEND;TZID=UTC:20190425T190000
DTSTAMP:20260420T064914
CREATED:20190404T145012Z
LAST-MODIFIED:20190404T145909Z
UID:1295-1556213400-1556218800@cntaware.org
SUMMARY:Tap into Nuclear - "How to Get Noticed in the Workplace for the Right Reasons"
DESCRIPTION:Our 34th Annual Teller Lecture & Banquet will celebrate the 75 year history of the Savannah River Site.  2025 Teller Lecture Sponsorship Information has information on the specifics of the event and sponsorship options. If you receive a free ticket as part of your CNTA membership (Benefactor\, Advocate\, Champion level) email office@cntaware.org to RSVP. 								\n				\n				\n						\n					\n			\n						\n				\n																														\n				\n					\n		\n				\n			\n						\n				\n									Sponsorship Options								\n				\n				\n				\n					\n  \n  \n  \n    \n      \n        \n        2025 Teller Lecture Sponsorship\n      \n    \n    \n      \n        \n          \n            Platinum Sponsor $2\,500.00 USD\n          \n          \n            Gold Sponsor $1\,500.00 USD\n          \n          \n            Silver Sponsor $1\,000.00 USD\n          \n          \n            Corporate Sponsor $800.00 USD\n          \n          \n            Non-Profit Sponsor $600.00 USD\n          \n        \n      \n    \n  \n  \n  \n\n				\n				\n				\n				\n									Individual Tickets								\n				\n				\n				\n					\n  \n  \n  \n    \n      \n        \n        Ticket Options\n      \n    \n    \n      \n        \n          \n            One Event Ticket $50.00 USD\n          \n          \n            Two Event Tickets $100.00 USD\n          \n          \n            One Event & Reception Ticket $65.00 USD\n          \n          \n            Patron Member 1/2 Price Ticket $25.00 USD\n          \n        \n      \n    \n    \n      \n        \n        Name(s) for RSVP:
URL:https://cntaware.org/event/tap-into-nuclear-how-to-get-noticed-in-the-workplace-for-the-right-reasons/
LOCATION:Aiken Brewing Company\, 140 Laurens St SW\, Aiken\, SC\, 29801\, United States
END:VEVENT
BEGIN:VEVENT
DTSTART;TZID=UTC:20190326T180000
DTEND;TZID=UTC:20190326T200000
DTSTAMP:20260420T064914
CREATED:20190122T190133Z
LAST-MODIFIED:20190122T190133Z
UID:656-1553623200-1553630400@cntaware.org
SUMMARY:Annual Member's Mixer - 3/26
DESCRIPTION:Our 34th Annual Teller Lecture & Banquet will celebrate the 75 year history of the Savannah River Site.  2025 Teller Lecture Sponsorship Information has information on the specifics of the event and sponsorship options. If you receive a free ticket as part of your CNTA membership (Benefactor\, Advocate\, Champion level) email office@cntaware.org to RSVP. 								\n				\n				\n						\n					\n			\n						\n				\n																														\n				\n					\n		\n				\n			\n						\n				\n									Sponsorship Options								\n				\n				\n				\n					\n  \n  \n  \n    \n      \n        \n        2025 Teller Lecture Sponsorship\n      \n    \n    \n      \n        \n          \n            Platinum Sponsor $2\,500.00 USD\n          \n          \n            Gold Sponsor $1\,500.00 USD\n          \n          \n            Silver Sponsor $1\,000.00 USD\n          \n          \n            Corporate Sponsor $800.00 USD\n          \n          \n            Non-Profit Sponsor $600.00 USD\n          \n        \n      \n    \n  \n  \n  \n\n				\n				\n				\n				\n									Individual Tickets								\n				\n				\n				\n					\n  \n  \n  \n    \n      \n        \n        Ticket Options\n      \n    \n    \n      \n        \n          \n            One Event Ticket $50.00 USD\n          \n          \n            Two Event Tickets $100.00 USD\n          \n          \n            One Event & Reception Ticket $65.00 USD\n          \n          \n            Patron Member 1/2 Price Ticket $25.00 USD\n          \n        \n      \n    \n    \n      \n        \n        Name(s) for RSVP:
URL:https://cntaware.org/event/annual-members-mixer-3-26/
LOCATION:Newberry Hall\, 117 Newberry Street SW\, Aiken\, SC\, 29801\, United States
END:VEVENT
BEGIN:VEVENT
DTSTART;TZID=UTC:20190228T173000
DTEND;TZID=UTC:20190228T190000
DTSTAMP:20260420T064914
CREATED:20190122T190021Z
LAST-MODIFIED:20190122T190021Z
UID:653-1551375000-1551380400@cntaware.org
SUMMARY:Tap into Nuclear - 2/28
DESCRIPTION:Our 34th Annual Teller Lecture & Banquet will celebrate the 75 year history of the Savannah River Site.  2025 Teller Lecture Sponsorship Information has information on the specifics of the event and sponsorship options. If you receive a free ticket as part of your CNTA membership (Benefactor\, Advocate\, Champion level) email office@cntaware.org to RSVP. 								\n				\n				\n						\n					\n			\n						\n				\n																														\n				\n					\n		\n				\n			\n						\n				\n									Sponsorship Options								\n				\n				\n				\n					\n  \n  \n  \n    \n      \n        \n        2025 Teller Lecture Sponsorship\n      \n    \n    \n      \n        \n          \n            Platinum Sponsor $2\,500.00 USD\n          \n          \n            Gold Sponsor $1\,500.00 USD\n          \n          \n            Silver Sponsor $1\,000.00 USD\n          \n          \n            Corporate Sponsor $800.00 USD\n          \n          \n            Non-Profit Sponsor $600.00 USD\n          \n        \n      \n    \n  \n  \n  \n\n				\n				\n				\n				\n									Individual Tickets								\n				\n				\n				\n					\n  \n  \n  \n    \n      \n        \n        Ticket Options\n      \n    \n    \n      \n        \n          \n            One Event Ticket $50.00 USD\n          \n          \n            Two Event Tickets $100.00 USD\n          \n          \n            One Event & Reception Ticket $65.00 USD\n          \n          \n            Patron Member 1/2 Price Ticket $25.00 USD\n          \n        \n      \n    \n    \n      \n        \n        Name(s) for RSVP:
URL:https://cntaware.org/event/tap-into-nuclear-2-28/
LOCATION:Aiken Brewing Company\, 140 Laurens St SW\, Aiken\, SC\, 29801\, United States
END:VEVENT
BEGIN:VEVENT
DTSTART;TZID=UTC:20190220T073000
DTEND;TZID=UTC:20190220T093000
DTSTAMP:20260420T064914
CREATED:20190122T171105Z
LAST-MODIFIED:20190205T145806Z
UID:628-1550647800-1550655000@cntaware.org
SUMMARY:Up & Atom - 2/20
DESCRIPTION:Our 34th Annual Teller Lecture & Banquet will celebrate the 75 year history of the Savannah River Site.  2025 Teller Lecture Sponsorship Information has information on the specifics of the event and sponsorship options. If you receive a free ticket as part of your CNTA membership (Benefactor\, Advocate\, Champion level) email office@cntaware.org to RSVP. 								\n				\n				\n						\n					\n			\n						\n				\n																														\n				\n					\n		\n				\n			\n						\n				\n									Sponsorship Options								\n				\n				\n				\n					\n  \n  \n  \n    \n      \n        \n        2025 Teller Lecture Sponsorship\n      \n    \n    \n      \n        \n          \n            Platinum Sponsor $2\,500.00 USD\n          \n          \n            Gold Sponsor $1\,500.00 USD\n          \n          \n            Silver Sponsor $1\,000.00 USD\n          \n          \n            Corporate Sponsor $800.00 USD\n          \n          \n            Non-Profit Sponsor $600.00 USD\n          \n        \n      \n    \n  \n  \n  \n\n				\n				\n				\n				\n									Individual Tickets								\n				\n				\n				\n					\n  \n  \n  \n    \n      \n        \n        Ticket Options\n      \n    \n    \n      \n        \n          \n            One Event Ticket $50.00 USD\n          \n          \n            Two Event Tickets $100.00 USD\n          \n          \n            One Event & Reception Ticket $65.00 USD\n          \n          \n            Patron Member 1/2 Price Ticket $25.00 USD\n          \n        \n      \n    \n    \n      \n        \n        Name(s) for RSVP:
URL:https://cntaware.org/event/up-atom-2-20/
LOCATION:Crown Plaza\, 1060 Center St\, North Augusta\, SC\, 29841\, United States
CATEGORIES:Up & Atom
END:VEVENT
BEGIN:VEVENT
DTSTART;TZID=UTC:20190123T073000
DTEND;TZID=UTC:20190123T083000
DTSTAMP:20260420T064914
CREATED:20190117T155736Z
LAST-MODIFIED:20190122T190807Z
UID:611-1548228600-1548232200@cntaware.org
SUMMARY:Up & Atom - 1/23
DESCRIPTION:Our 34th Annual Teller Lecture & Banquet will celebrate the 75 year history of the Savannah River Site.  2025 Teller Lecture Sponsorship Information has information on the specifics of the event and sponsorship options. If you receive a free ticket as part of your CNTA membership (Benefactor\, Advocate\, Champion level) email office@cntaware.org to RSVP. 								\n				\n				\n						\n					\n			\n						\n				\n																														\n				\n					\n		\n				\n			\n						\n				\n									Sponsorship Options								\n				\n				\n				\n					\n  \n  \n  \n    \n      \n        \n        2025 Teller Lecture Sponsorship\n      \n    \n    \n      \n        \n          \n            Platinum Sponsor $2\,500.00 USD\n          \n          \n            Gold Sponsor $1\,500.00 USD\n          \n          \n            Silver Sponsor $1\,000.00 USD\n          \n          \n            Corporate Sponsor $800.00 USD\n          \n          \n            Non-Profit Sponsor $600.00 USD\n          \n        \n      \n    \n  \n  \n  \n\n				\n				\n				\n				\n									Individual Tickets								\n				\n				\n				\n					\n  \n  \n  \n    \n      \n        \n        Ticket Options\n      \n    \n    \n      \n        \n          \n            One Event Ticket $50.00 USD\n          \n          \n            Two Event Tickets $100.00 USD\n          \n          \n            One Event & Reception Ticket $65.00 USD\n          \n          \n            Patron Member 1/2 Price Ticket $25.00 USD\n          \n        \n      \n    \n    \n      \n        \n        Name(s) for RSVP:
URL:https://cntaware.org/event/up-atom-1-23/
LOCATION:Newberry Hall\, 117 Newberry Street SW\, Aiken\, SC\, 29801\, United States
CATEGORIES:Up & Atom
END:VEVENT
BEGIN:VEVENT
DTSTART;TZID=UTC:20181114T073000
DTEND;TZID=UTC:20181114T090000
DTSTAMP:20260420T064914
CREATED:20181029T181708Z
LAST-MODIFIED:20190122T180826Z
UID:380-1542180600-1542186000@cntaware.org
SUMMARY:Up & Atom - "Air Force Global Strike Mission Brief"
DESCRIPTION:Our 34th Annual Teller Lecture & Banquet will celebrate the 75 year history of the Savannah River Site.  2025 Teller Lecture Sponsorship Information has information on the specifics of the event and sponsorship options. If you receive a free ticket as part of your CNTA membership (Benefactor\, Advocate\, Champion level) email office@cntaware.org to RSVP. 								\n				\n				\n						\n					\n			\n						\n				\n																														\n				\n					\n		\n				\n			\n						\n				\n									Sponsorship Options								\n				\n				\n				\n					\n  \n  \n  \n    \n      \n        \n        2025 Teller Lecture Sponsorship\n      \n    \n    \n      \n        \n          \n            Platinum Sponsor $2\,500.00 USD\n          \n          \n            Gold Sponsor $1\,500.00 USD\n          \n          \n            Silver Sponsor $1\,000.00 USD\n          \n          \n            Corporate Sponsor $800.00 USD\n          \n          \n            Non-Profit Sponsor $600.00 USD\n          \n        \n      \n    \n  \n  \n  \n\n				\n				\n				\n				\n									Individual Tickets								\n				\n				\n				\n					\n  \n  \n  \n    \n      \n        \n        Ticket Options\n      \n    \n    \n      \n        \n          \n            One Event Ticket $50.00 USD\n          \n          \n            Two Event Tickets $100.00 USD\n          \n          \n            One Event & Reception Ticket $65.00 USD\n          \n          \n            Patron Member 1/2 Price Ticket $25.00 USD\n          \n        \n      \n    \n    \n      \n        \n        Name(s) for RSVP:
URL:https://cntaware.org/event/up-atom-air-force-global-strike-mission-brief/
LOCATION:Newberry Hall\, 117 Newberry Street SW\, Aiken\, SC\, 29801\, United States
CATEGORIES:Up & Atom
END:VEVENT
END:VCALENDAR